BEGIN:VCALENDAR
VERSION:2.0
PRODID:-//Broome Technology Park at Airport Road - ECPv6.15.20//NONSGML v1.0//EN
CALSCALE:GREGORIAN
METHOD:PUBLISH
X-WR-CALNAME:Broome Technology Park at Airport Road
X-ORIGINAL-URL:https://broometechpark.com
X-WR-CALDESC:Events for Broome Technology Park at Airport Road
REFRESH-INTERVAL;VALUE=DURATION:PT1H
X-Robots-Tag:noindex
X-PUBLISHED-TTL:PT1H
BEGIN:VTIMEZONE
TZID:America/New_York
BEGIN:DAYLIGHT
TZOFFSETFROM:-0500
TZOFFSETTO:-0400
TZNAME:EDT
DTSTART:20230312T070000
END:DAYLIGHT
BEGIN:STANDARD
TZOFFSETFROM:-0400
TZOFFSETTO:-0500
TZNAME:EST
DTSTART:20231105T060000
END:STANDARD
BEGIN:DAYLIGHT
TZOFFSETFROM:-0500
TZOFFSETTO:-0400
TZNAME:EDT
DTSTART:20240310T070000
END:DAYLIGHT
BEGIN:STANDARD
TZOFFSETFROM:-0400
TZOFFSETTO:-0500
TZNAME:EST
DTSTART:20241103T060000
END:STANDARD
BEGIN:DAYLIGHT
TZOFFSETFROM:-0500
TZOFFSETTO:-0400
TZNAME:EDT
DTSTART:20250309T070000
END:DAYLIGHT
BEGIN:STANDARD
TZOFFSETFROM:-0400
TZOFFSETTO:-0500
TZNAME:EST
DTSTART:20251102T060000
END:STANDARD
END:VTIMEZONE
BEGIN:VTIMEZONE
TZID:America/New_York
BEGIN:DAYLIGHT
TZOFFSETFROM:-0500
TZOFFSETTO:-0400
TZNAME:EDT
DTSTART:20230312T070000
END:DAYLIGHT
BEGIN:STANDARD
TZOFFSETFROM:-0400
TZOFFSETTO:-0500
TZNAME:EST
DTSTART:20231105T060000
END:STANDARD
BEGIN:DAYLIGHT
TZOFFSETFROM:-0500
TZOFFSETTO:-0400
TZNAME:EDT
DTSTART:20240310T070000
END:DAYLIGHT
BEGIN:STANDARD
TZOFFSETFROM:-0400
TZOFFSETTO:-0500
TZNAME:EST
DTSTART:20241103T060000
END:STANDARD
BEGIN:DAYLIGHT
TZOFFSETFROM:-0500
TZOFFSETTO:-0400
TZNAME:EDT
DTSTART:20250309T070000
END:DAYLIGHT
BEGIN:STANDARD
TZOFFSETFROM:-0400
TZOFFSETTO:-0500
TZNAME:EST
DTSTART:20251102T060000
END:STANDARD
END:VTIMEZONE
BEGIN:VEVENT
DTSTART;TZID=America/New_York:20240910T183000
DTEND;TZID=America/New_York:20240910T183000
DTSTAMP:20260423T050928
CREATED:20240827T183719Z
LAST-MODIFIED:20240827T184159Z
UID:823-1725993000-1725993000@broometechpark.com
SUMMARY:Public Hearing
DESCRIPTION:The public hearing is scheduled for 9/10/24 at 6:30pm. The location is Maine-Endwell High School Auditorium. 
URL:https://broometechpark.com/event/public-hearing-2/
LOCATION:Maine-Endwell High School Auditorium\, 750 Farm to Market Rd\, Endwell\, New York\, 13760\, United States
CATEGORIES:In-Person
ATTACH;FMTTYPE=image/png:https://broometechpark.com/wp-content/uploads/2024/08/BroomeTechPark_PublicHearing.png
END:VEVENT
BEGIN:VEVENT
DTSTART;TZID=America/New_York:20240806T080000
DTEND;TZID=America/New_York:20240806T190000
DTSTAMP:20260423T050928
CREATED:20240716T184639Z
LAST-MODIFIED:20240716T195811Z
UID:725-1722931200-1722970800@broometechpark.com
SUMMARY:Broome Technology Park Open House
DESCRIPTION:  \nJoin us at the Tech Park Open House! \n  \nStop in anytime and learn more about the initial vision for the Broome Tech Park and provide your input and ideas. \n  \n* This event is ADA accessible * \n  \n  \n  \n  \n  \n  \n 
URL:https://broometechpark.com/event/broome-technology-park-open-house-2/
LOCATION:Johnson City High School Auditorium\, 666 Reynolds Road\, Johnson City\, New York\, 13790\, United States
CATEGORIES:In-Person
ATTACH;FMTTYPE=image/png:https://broometechpark.com/wp-content/uploads/2024/07/BroomeTechPark_OpenHouse.png
END:VEVENT
END:VCALENDAR