BEGIN:VCALENDAR
VERSION:2.0
PRODID:-//Broome Technology Park at Airport Road - ECPv6.15.20//NONSGML v1.0//EN
CALSCALE:GREGORIAN
METHOD:PUBLISH
X-ORIGINAL-URL:https://broometechpark.com
X-WR-CALDESC:Events for Broome Technology Park at Airport Road
REFRESH-INTERVAL;VALUE=DURATION:PT1H
X-Robots-Tag:noindex
X-PUBLISHED-TTL:PT1H
BEGIN:VTIMEZONE
TZID:America/New_York
BEGIN:DAYLIGHT
TZOFFSETFROM:-0500
TZOFFSETTO:-0400
TZNAME:EDT
DTSTART:20250309T070000
END:DAYLIGHT
BEGIN:STANDARD
TZOFFSETFROM:-0400
TZOFFSETTO:-0500
TZNAME:EST
DTSTART:20251102T060000
END:STANDARD
BEGIN:DAYLIGHT
TZOFFSETFROM:-0500
TZOFFSETTO:-0400
TZNAME:EDT
DTSTART:20260308T070000
END:DAYLIGHT
BEGIN:STANDARD
TZOFFSETFROM:-0400
TZOFFSETTO:-0500
TZNAME:EST
DTSTART:20261101T060000
END:STANDARD
BEGIN:DAYLIGHT
TZOFFSETFROM:-0500
TZOFFSETTO:-0400
TZNAME:EDT
DTSTART:20270314T070000
END:DAYLIGHT
BEGIN:STANDARD
TZOFFSETFROM:-0400
TZOFFSETTO:-0500
TZNAME:EST
DTSTART:20271107T060000
END:STANDARD
END:VTIMEZONE
BEGIN:VEVENT
DTSTART;TZID=America/New_York:20260423T180000
DTEND;TZID=America/New_York:20260423T210000
DTSTAMP:20260423T025337
CREATED:20260319T190543Z
LAST-MODIFIED:20260402T170555Z
UID:1554-1776967200-1776978000@broometechpark.com
SUMMARY:Public Hearing for Draft Generic Environmental Impact Statement (DGEIS)
DESCRIPTION:Join us on Thursday April 23th at 6:00pm for a public hearing regarding the findings in the DGEIS for the Broome Tech Park. The hearing is set at the Johnson City High School Auditorium. We look forward to hearing your input and ideas! \n\n\n* This event is ADA accessible * \n\n\n\n\n\n\n\n\n\n\n 
URL:https://broometechpark.com/event/public-hearing-for-draft-generic-environmental-impact-statement-dgeis/
LOCATION:Johnson City High School Auditorium\, 666 Reynolds Road\, Johnson City\, New York\, United States
CATEGORIES:In-Person
ATTACH;FMTTYPE=image/webp:https://broometechpark.com/wp-content/uploads/2026/03/Webinar-1.webp
END:VEVENT
END:VCALENDAR