BEGIN:VCALENDAR
VERSION:2.0
PRODID:-//Broome Technology Park at Airport Road - ECPv6.15.20//NONSGML v1.0//EN
CALSCALE:GREGORIAN
METHOD:PUBLISH
X-WR-CALNAME:Broome Technology Park at Airport Road
X-ORIGINAL-URL:https://broometechpark.com
X-WR-CALDESC:Events for Broome Technology Park at Airport Road
REFRESH-INTERVAL;VALUE=DURATION:PT1H
X-Robots-Tag:noindex
X-PUBLISHED-TTL:PT1H
BEGIN:VTIMEZONE
TZID:America/New_York
BEGIN:DAYLIGHT
TZOFFSETFROM:-0500
TZOFFSETTO:-0400
TZNAME:EDT
DTSTART:20250309T070000
END:DAYLIGHT
BEGIN:STANDARD
TZOFFSETFROM:-0400
TZOFFSETTO:-0500
TZNAME:EST
DTSTART:20251102T060000
END:STANDARD
BEGIN:DAYLIGHT
TZOFFSETFROM:-0500
TZOFFSETTO:-0400
TZNAME:EDT
DTSTART:20260308T070000
END:DAYLIGHT
BEGIN:STANDARD
TZOFFSETFROM:-0400
TZOFFSETTO:-0500
TZNAME:EST
DTSTART:20261101T060000
END:STANDARD
BEGIN:DAYLIGHT
TZOFFSETFROM:-0500
TZOFFSETTO:-0400
TZNAME:EDT
DTSTART:20270314T070000
END:DAYLIGHT
BEGIN:STANDARD
TZOFFSETFROM:-0400
TZOFFSETTO:-0500
TZNAME:EST
DTSTART:20271107T060000
END:STANDARD
END:VTIMEZONE
BEGIN:VEVENT
DTSTART;TZID=America/New_York:20260508T000000
DTEND;TZID=America/New_York:20260508T235959
DTSTAMP:20260423T143710
CREATED:20260324T205059Z
LAST-MODIFIED:20260402T170620Z
UID:1592-1778198400-1778284799@broometechpark.com
SUMMARY:Last Day for Public Comment
DESCRIPTION:The last day to submit your comments on the DGEIS for the proposed Broome Technology Park is May 8. You can submit your comment to techpark@theagency-ny.com\, or by mailing to The Agency Broome County IDA/LDC\, 5 South College Drive\, Binghamton\, NY 13905 with “Attention: DGEIS Comments” written in the address block.
URL:https://broometechpark.com/event/last-day-for-public-comment/
ATTACH;FMTTYPE=image/webp:https://broometechpark.com/wp-content/uploads/2026/03/Webinar-2-1.webp
END:VEVENT
END:VCALENDAR